Workbook

Sheet 配偶者控除算出表
A1: 年末調整 配偶者控除・配偶者特別控除額 算出表【給与所得者用】
A3: １．入力項目
B5: あなたの年間給与収入（見積額） | G5: 円
B6: 配偶者の年間給与収入（見積額） | G6: 円
B7: 配偶者の年齢（翌年１月１日現在の年齢）
A10: ２．配偶者控除・配偶者特別控除の額
B12: あなたの年間給与所得額 | F12: =計算シート!C32 -> #VALUE! | G12: 円
B13: 区分Ⅰ | F13: =計算シート!C34 -> #VALUE! | G13: =計算シート!C35 -> #VALUE!
B14: 配偶者の年間給与所得額 | F14: =計算シート!E32 -> #VALUE! | G14: 円
B15: 区分Ⅱ | F15: =計算シート!E34 -> #VALUE! | G15: =計算シート!E35 -> #VALUE!
B17: 配偶者控除の額 | F17: =計算シート!C52 -> #VALUE! | G17: 円
B18: 配偶者特別控除の額 | F18: =計算シート!C53 -> #VALUE! | G18: 円
A21: ３．給与所得者の配偶者控除等申告書における記載箇所

Sheet 計算シート
A1: 配偶者控除・配偶者特別控除額 算出表【給与所得者用】
A3: １．給与所得計算
A5: あなたの年間給与収入（見積額） | E5: =IF(配偶者控除算出表!F5="","",配偶者控除算出表!F5) | F5: 円
A6: 配偶者の年間給与収入（見積額） | E6: =IF(配偶者控除算出表!F6="","",配偶者控除算出表!F6) | F6: 円
A7: 配偶者の年齢（翌年１月１日現在の年齢） | E7: =IF(配偶者控除算出表!F7="","",配偶者控除算出表!F7) | G7: 70歳以上
G8: 69歳以下
A9: 給与等の収入金額（Ａ） | D9: 給与所得の金額（C）
A11: 1 | B11: ～ | C11: 740999 | D11: 0円＝（C）
A12: 741000 | B12: ～ | C12: 2190999 | D12: （A）－740,000円＝（C）
A13: 2191000 | B13: ～ | C13: 2192999 | D13: 1,451,000円＝（C）
A14: 2193000 | B14: ～ | C14: 2195999 | D14: 1,453,000円＝（C）
A15: 2196000 | B15: ～ | C15: 2199999 | D15: 1,456,000円＝（C）
A16: 2200000 | B16: ～ | C16: 3599999 | D16: ①：（A）÷４（千円未満切捨て）＝（B） ⇒ ②：（B）×2.8－80,000円＝（C）
A17: 3600000 | B17: ～ | C17: 6599999 | D17: ①：（A）÷４（千円未満切捨て）＝（B） ⇒ ②：（B）×3.2－440,000円＝（C）
A18: 6600000 | B18: ～ | C18: 8499999 | D18: （A）× 90％－1,100,000円＝（C）
A19: 8500000 | B19: ～ | D19: （A）－1,950,000円＝（C）
C22: あなたの年間所得 | E22: 配偶者の年間所得
C23: =IF(E5<=C11,0,0) -> 0 | E23: =IF(E6<=C11,0,0) -> 0
C24: =IF(AND($E$5>=A12,$E$5<=C12),$E$5-740000,0) -> 0 | E24: =IF(AND($E$6>=A12,$E$6<=C12),$E$6-740000,0) -> 0
C25: =IF(AND($E$5>=A13,$E$5<=C13),1451000,0) -> 0 | E25: =IF(AND($E$6>=A13,$E$6<=C13),1451000,0) -> 0
C26: =IF(AND($E$5>=A14,$E$5<=C14),1453000,0) -> 0 | E26: =IF(AND($E$6>=A14,$E$6<=C14),1453000,0) -> 0
C27: =IF(AND($E$5>=A15,$E$5<=C15),1456000,0) -> 0 | E27: =IF(AND($E$6>=A15,$E$6<=C15),1456000,0) -> 0
C28: =IF(AND($E$5>=A16,$E$5<=C16),ROUNDDOWN($E$5/4,-3)*2.8-80000,0) -> 0 | E28: =IF(AND($E$6>=A16,$E$6<=C16),ROUNDDOWN($E$6/4,-3)*2.8-80000,0) -> 0
C29: =IF(AND($E$5>=A17,$E$5<=C17),ROUNDDOWN($E$5/4,-3)*3.2-440000,0) -> 0 | E29: =IF(AND($E$6>=A17,$E$6<=C17),ROUNDDOWN($E$6/4,-3)*3.2-440000,0) -> 0
C30: =IF(AND($E$5>=A18,$E$5<=C18),ROUNDDOWN($E$5*0.9,0)-1100000,0) -> 0 | E30: =IF(AND($E$6>=A18,$E$6<=C18),ROUNDDOWN($E$6*0.9,0)-1100000,0) -> 0
C31: =IF($E$5>=A19,$E$5-1950000,0) -> #VALUE! | E31: =IF($E$6>=A19,$E$6-1950000,0) -> #VALUE!
A32: 合計 | C32: =SUM(C23:C31) -> #VALUE! | E32: =SUM(E23:E31) -> #VALUE!
A34: 区分 | C34: =IF(C32<=4890000,"489万円以下",IF(AND(C32>4890000,C32<=6550000),"489万円超655万円以下",IF(AND(C32>6550000,C32<=9000000),"655万円超900万円以下",IF(AND(C32>9000000,C32<=9500000),"900万円超950万円以下",IF(AND(C32>9500000,C32<=10000000),"950万円超1,000万円以下","対象外"))))) -> #VALUE! | E34: =IF(AND(E32<=620000,E7="70歳以上"),"62万円以下かつ年齢70歳以上",IF(AND(E32<=620000,E7="69歳以下"),"62万円以下かつ年齢70歳未満",IF(AND(E32>620000,E32<=950000),"62万円超95万円以下",IF(AND(E32>950000,E32<=1330000),"95万円超133万円以下","対象外")))) -> #VALUE!
C35: =IF(C34="489万円以下","(A)",IF(C34="489万円超655万円以下","(A)",IF(C34="655万円超900万円以下","(A)",IF(C34="900万円超950万円以下","(B)",IF(C34="950万円超1,000万円以下","(C)",""))))) -> #VALUE! | E35: =IF(E34="62万円以下かつ年齢70歳以上","①",IF(E34="62万円以下かつ年齢70歳未満","②",IF(E34="62万円超95万円以下","③",IF(E34="95万円超133万円以下","④","")))) -> #VALUE!
A38: ２．配偶者控除・配偶者特別控除の額
C40: 区分Ⅱ
C41: ① | D41: ② | E41: ③ | F41: ④
F42: 95万円超100万円以下 | G42: 100万円超105万円以下 | H42: 105万円超110万円以下 | I42: 110万円超115万円以下 | J42: 115万円超120万円以下 | K42: 120万円超125万円以下 | L42: 125万円超130万円以下 | M42: 130万円超133万円以下
A43: 区分Ⅰ | B43: A | C43: 480000 | D43: 380000 | E43: 380000 | F43: 360000 | G43: 310000 | H43: 260000 | I43: 210000 | J43: 160000 | K43: 110000 | L43: 60000 | M43: 30000
B44: B | C44: 320000 | D44: 260000 | E44: 260000 | F44: 240000 | G44: 210000 | H44: 180000 | I44: 140000 | J44: 110000 | K44: 80000 | L44: 40000 | M44: 20000
B45: C | C45: 160000 | D45: 130000 | E45: 130000 | F45: 120000 | G45: 110000 | H45: 90000 | I45: 70000 | J45: 60000 | K45: 40000 | L45: 20000 | M45: 10000
A47: 集計 | C47: =IF(AND($C$35="(A)",$E$35="①"),C43,0) -> #VALUE! | D47: =IF(AND($C$35="(A)",$E$35="②"),D43,0) -> #VALUE! | E47: =IF(AND($C$35="(A)",$E$35="③"),E43,0) -> #VALUE! | F47: =IF(AND($C$35="(A)",$E$32>950000,$E$32<=1000000),F43,0) -> #VALUE! | G47: =IF(AND($C$35="(A)",$E$32>1000000,$E$32<=1050000),G43,0) -> #VALUE! | H47: =IF(AND($C$35="(A)",$E$32>1050000,$E$32<=1100000),H43,0) -> #VALUE! | I47: =IF(AND($C$35="(A)",$E$32>1100000,$E$32<=1150000),I43,0) -> #VALUE! | J47: =IF(AND($C$35="(A)",$E$32>1150000,$E$32<=1200000),J43,0) -> #VALUE! | K47: =IF(AND($C$35="(A)",$E$32>1200000,$E$32<=1250000),K43,0) -> #VALUE! | L47: =IF(AND($C$35="(A)",$E$32>1250000,$E$32<=1300000),L43,0) -> #VALUE! | M47: =IF(AND($C$35="(A)",$E$32>1300000,$E$32<=1330000),M43,0) -> #VALUE!
C48: =IF(AND($C$35="(B)",$E$35="①"),C44,0) -> #VALUE! | D48: =IF(AND($C$35="(B)",$E$35="②"),D44,0) -> #VALUE! | E48: =IF(AND($C$35="(B)",$E$35="③"),E44,0) -> #VALUE! | F48: =IF(AND($C$35="(B)",$E$32>950000,$E$32<=1000000),F44,0) -> #VALUE! | G48: =IF(AND($C$35="(B)",$E$32>1000000,$E$32<=1050000),G44,0) -> #VALUE! | H48: =IF(AND($C$35="(B)",$E$32>1050000,$E$32<=1100000),H44,0) -> #VALUE! | I48: =IF(AND($C$35="(B)",$E$32>1100000,$E$32<=1150000),I44,0) -> #VALUE! | J48: =IF(AND($C$35="(B)",$E$32>1150000,$E$32<=1200000),J44,0) -> #VALUE! | K48: =IF(AND($C$35="(B)",$E$32>1200000,$E$32<=1250000),K44,0) -> #VALUE! | L48: =IF(AND($C$35="(B)",$E$32>1250000,$E$32<=1300000),L44,0) -> #VALUE! | M48: =IF(AND($C$35="(B)",$E$32>1300000,$E$32<=1330000),M44,0) -> #VALUE!
C49: =IF(AND($C$35="(C)",$E$35="①"),C45,0) -> #VALUE! | D49: =IF(AND($C$35="(C)",$E$35="②"),D45,0) -> #VALUE! | E49: =IF(AND($C$35="(C)",$E$35="③"),E45,0) -> #VALUE! | F49: =IF(AND($C$35="(C)",$E$32>950000,$E$32<=1000000),F45,0) -> #VALUE! | G49: =IF(AND($C$35="(C)",$E$32>1000000,$E$32<=1050000),G45,0) -> #VALUE! | H49: =IF(AND($C$35="(C)",$E$32>1050000,$E$32<=1100000),H45,0) -> #VALUE! | I49: =IF(AND($C$35="(C)",$E$32>1100000,$E$32<=1150000),I45,0) -> #VALUE! | J49: =IF(AND($C$35="(C)",$E$32>1150000,$E$32<=1200000),J45,0) -> #VALUE! | K49: =IF(AND($C$35="(C)",$E$32>1200000,$E$32<=1250000),K45,0) -> #VALUE! | L49: =IF(AND($C$35="(C)",$E$32>1250000,$E$32<=1300000),L45,0) -> #VALUE! | M49: =IF(AND($C$35="(C)",$E$32>1300000,$E$32<=1330000),M45,0) -> #VALUE!
A50: 合計 | C50: =SUM(C47:C49) -> #VALUE! | D50: =SUM(D47:D49) -> #VALUE! | E50: =SUM(E47:E49) -> #VALUE! | F50: =SUM(F47:F49) -> #VALUE! | G50: =SUM(G47:G49) -> #VALUE! | H50: =SUM(H47:H49) -> #VALUE! | I50: =SUM(I47:I49) -> #VALUE! | J50: =SUM(J47:J49) -> #VALUE! | ... M50: =SUM(M47:M49) -> #VALUE!
...
