Workbook

Sheet 最低賃金
A1: 令和８年度 地域別最低賃金時間額一覧
A3: 都道府県 | B3: 最低賃金時間額（単位：円） | D3: 引上げ額 （単位：円） | E3: 発効日
B4: 改定後 | C4: 改定前
A5: 北海道 | B5: 1131 | C5: 1075 | D5: =B5-C5 -> 56 | E5: 46296
A6: 青 森 | B6: 1090 | C6: 1029 | D6: =B6-C6 -> 61 | E6: 46324
A7: 岩 手 | B7: 1090 | C7: 1031 | D7: =B7-C7 -> 59 | E7: 46357
A8: 宮 城 | B8: 1098 | C8: 1038 | D8: =B8-C8 -> 60 | E8: 46296
A9: 秋 田 | B9: 1090 | C9: 1031 | D9: =B9-C9 -> 59 | E9: 46309
A10: 山 形 | B10: 1092 | C10: 1032 | D10: =B10-C10 -> 60 | E10: 46325
A11: 福 島 | B11: 1094 | C11: 1033 | D11: =B11-C11 -> 61 | E11: 46311
A12: 茨 城 | B12: 1136 | C12: 1074 | D12: =B12-C12 -> 62 | E12: 46313
A13: 栃 木 | B13: 1125 | C13: 1068 | D13: =B13-C13 -> 57 | E13: 46296
A14: 群 馬 | B14: 1120 | C14: 1063 | D14: =B14-C14 -> 57 | E14: 46298
A15: 埼 玉 | B15: 1196 | C15: 1141 | D15: =B15-C15 -> 55 | E15: 46296
A16: 千 葉 | B16: 1195 | C16: 1140 | D16: =B16-C16 -> 55 | E16: 46296
... A51: 沖 縄 | B51: 1086 | C51: 1023 | D51: =B51-C51 -> 63 | E51: 46358
A52: 全国加重平均額 | B52: 1177 | C52: 1121 | D52: =B52-C52 -> 56

Sheet 高い順
A1: 令和８年度 地域別最低賃金時間額一覧【高い順】
A3: 都道府県 | B3: 最低賃金時間額（単位：円） | D3: 引上げ額 （単位：円） | E3: 発効日
B4: 改定後 | C4: 改定前
A5: 東 京 | B5: 1280 | C5: 1226 | D5: =B5-C5 -> 54 | E5: 46296
A6: 神奈川 | B6: 1279 | C6: 1225 | D6: =B6-C6 -> 54 | E6: 46296
A7: 大 阪 | B7: 1231 | C7: 1177 | D7: =B7-C7 -> 54 | E7: 46296
A8: 埼 玉 | B8: 1196 | C8: 1141 | D8: =B8-C8 -> 55 | E8: 46296
A9: 千 葉 | B9: 1195 | C9: 1140 | D9: =B9-C9 -> 55 | E9: 46296
A10: 愛 知 | B10: 1195 | C10: 1140 | D10: =B10-C10 -> 55 | E10: 46296
A11: 京 都 | B11: 1180 | C11: 1122 | D11: =B11-C11 -> 58 | E11: 46342
A12: 兵 庫 | B12: 1172 | C12: 1116 | D12: =B12-C12 -> 56 | E12: 46296
A13: 静 岡 | B13: 1154 | C13: 1097 | D13: =B13-C13 -> 57 | E13: 46310
A14: 三 重 | B14: 1143 | C14: 1087 | D14: =B14-C14 -> 56 | E14: 46296
A15: 広 島 | B15: 1141 | C15: 1085 | D15: =B15-C15 -> 56 | E15: 46306
A16: 茨 城 | B16: 1136 | C16: 1074 | D16: =B16-C16 -> 62 | E16: 46313
... A51: 宮 崎 | B51: 1085 | C51: 1023 | D51: =B51-C51 -> 62 | E51: 46319
A52: 全国加重平均額 | B52: 1177 | C52: 1121 | D52: =B52-C52 -> 56

Sheet 最低賃金月額算出
A1: 令和８年度 地域別最低賃金月額一覧
A3: 都道府県 | B3: 発効日 | C3: 最低賃金時間額 （単位：円） | D3: 最低賃金月額（単位：円）
D4: 160
A5: 北海道 | B5: =最低賃金!E5 -> 46296 | C5: =最低賃金!B5 -> 1131 | D5: =C5*$D$4 -> 180960
A6: 青 森 | B6: =最低賃金!E6 -> 46324 | C6: =最低賃金!B6 -> 1090 | D6: =C6*$D$4 -> 174400
A7: 岩 手 | B7: =最低賃金!E7 -> 46357 | C7: =最低賃金!B7 -> 1090 | D7: =C7*$D$4 -> 174400
A8: 宮 城 | B8: =最低賃金!E8 -> 46296 | C8: =最低賃金!B8 -> 1098 | D8: =C8*$D$4 -> 175680
A9: 秋 田 | B9: =最低賃金!E9 -> 46309 | C9: =最低賃金!B9 -> 1090 | D9: =C9*$D$4 -> 174400
A10: 山 形 | B10: =最低賃金!E10 -> 46325 | C10: =最低賃金!B10 -> 1092 | D10: =C10*$D$4 -> 174720
A11: 福 島 | B11: =最低賃金!E11 -> 46311 | C11: =最低賃金!B11 -> 1094 | D11: =C11*$D$4 -> 175040
A12: 茨 城 | B12: =最低賃金!E12 -> 46313 | C12: =最低賃金!B12 -> 1136 | D12: =C12*$D$4 -> 181760
A13: 栃 木 | B13: =最低賃金!E13 -> 46296 | C13: =最低賃金!B13 -> 1125 | D13: =C13*$D$4 -> 180000
A14: 群 馬 | B14: =最低賃金!E14 -> 46298 | C14: =最低賃金!B14 -> 1120 | D14: =C14*$D$4 -> 179200
A15: 埼 玉 | B15: =最低賃金!E15 -> 46296 | C15: =最低賃金!B15 -> 1196 | D15: =C15*$D$4 -> 191360
A16: 千 葉 | B16: =最低賃金!E16 -> 46296 | C16: =最低賃金!B16 -> 1195 | D16: =C16*$D$4 -> 191200
... A51: 沖 縄 | B51: =最低賃金!E51 -> 46358 | C51: =最低賃金!B51 -> 1086 | D51: =C51*$D$4 -> 173760

Sheet 最低賃金時間額の比較
A1: 地域別最低賃金時間額の比較（平成１９年度・令和８年度）
D3: （単位：円）
A4: 都道府県 | B4: 平成１９年度 | C4: 令和８年度 | D4: 差額
B5: 最低賃金時間額 | C5: 最低賃金時間額
A6: 北海道 | B6: 654 | C6: 1131 | D6: =C6-B6 -> 477
A7: 青 森 | B7: 619 | C7: 1090 | D7: =C7-B7 -> 471
A8: 岩 手 | B8: 619 | C8: 1090 | D8: =C8-B8 -> 471
A9: 宮 城 | B9: 639 | C9: 1098 | D9: =C9-B9 -> 459
A10: 秋 田 | B10: 618 | C10: 1090 | D10: =C10-B10 -> 472
A11: 山 形 | B11: 620 | C11: 1092 | D11: =C11-B11 -> 472
A12: 福 島 | B12: 629 | C12: 1094 | D12: =C12-B12 -> 465
A13: 茨 城 | B13: 665 | C13: 1136 | D13: =C13-B13 -> 471
A14: 栃 木 | B14: 671 | C14: 1125 | D14: =C14-B14 -> 454
A15: 群 馬 | B15: 664 | C15: 1120 | D15: =C15-B15 -> 456
A16: 埼 玉 | B16: 702 | C16: 1196 | D16: =C16-B16 -> 494
A17: 千 葉 | B17: 706 | C17: 1195 | D17: =C17-B17 -> 489
... A53: 全国加重平均額 | B53: 687 | C53: 1177 | D53: =C53-B53 -> 490
